BEGIN:VCALENDAR
VERSION:2.0
PRODID:-//Westmead International School - ECPv5.6.0//NONSGML v1.0//EN
CALSCALE:GREGORIAN
METHOD:PUBLISH
X-WR-CALNAME:Westmead International School
X-ORIGINAL-URL:https://westmead-is.edu.ph
X-WR-CALDESC:Events for Westmead International School
BEGIN:VTIMEZONE
TZID:Asia/Manila
BEGIN:STANDARD
TZOFFSETFROM:+0800
TZOFFSETTO:+0800
TZNAME:PST
DTSTART:20260101T000000
END:STANDARD
END:VTIMEZONE
BEGIN:VEVENT
DTSTART;VALUE=DATE:20260410
DTEND;VALUE=DATE:20260411
DTSTAMP:20260420T233820
CREATED:20260410T030046Z
LAST-MODIFIED:20260413T033135Z
UID:84669-1775779200-1775865599@westmead-is.edu.ph
SUMMARY:16th Annual Business Forum Empowers Students on Financial Literacy and Future Success
DESCRIPTION:The 16th Annual Business Forum was successfully conducted on April 10\, 2026\, bringing together students\, administrators\, faculty members\, and distinguished guest speakers in a dynamic and enriching academic gathering. Centered on the theme “Money Matters: Financial Foundations to Future Fortunes\,” the event highlighted the importance of financial literacy\, smart decision-making\, and long-term financial planning in today’s rapidly evolving economic landscape. \n \nThe program commenced with an inspiring opening message from Dr. Marites D. Manlongat\, who warmly welcomed the participants and emphasized the relevance of financial awareness in modern society. She encouraged students to fully engage in the forum\, viewing it as an opportunity to build a solid foundation for their future careers and personal financial growth. \nA major highlight of the event was the presence of two esteemed guest speakers\, Jayson John Domingo and Chinkee Tan\, who shared valuable insights drawn from their expertise in finance and entrepreneurship. Their discussions focused on essential principles such as financial discipline\, the importance of saving and investing wisely\, and cultivating the right mindset to achieve long-term financial success. Students actively listened and engaged\, recognizing the practical value of these lessons in their everyday lives. \n \n  \nThe forum also featured an interactive segment where students were given the opportunity to ask questions and gain deeper insights into financial management and business strategies. This exchange fostered a lively and meaningful discussion\, reflecting the eagerness o \nf participants to learn and apply real-world concepts. The experience encouraged critical thinking and reinforced the importance of informed decision-making. \n \nBeyond the insightful discussions\, the event showcased exceptional organization and teamwork among the facilitators and organizers. The seamless flow of the program\, well-structured presentations\, and effective coordination demonstrated the collective effort behind the forum’s success. Students were able to observe firsthand the importance of planning\, communication\, and leadership in executing a large-scale academic event. \nThe program concluded with heartfelt closing remarks from the Event Chairperson\, Mico Verano\, who expressed gratitude to the speakers\, faculty members\, and students for their active participation and support. In his message\, he reminded everyone that success is not defined by perfection\, but by the willingness to grow\, persevere\, and rise above challenges. He emphasized that every achievement is rooted in effort\, sacrifice\, and faith\, and encouraged students to apply the knowledge gained from the forum in making wise financial decisions and preparing for future opportunities. \nOverall\, the 16th Annual Business Forum proved to be an enriching and impactful experience. It not only strengthened students’ understanding of financial management but also inspired them to become more responsible\, forward-thinking individuals. Events like this continue to play a vital role in bridging academic learning with real-world application\, making them an essential part of student development.
URL:https://westmead-is.edu.ph/event/16th-annual-business-forum-empowers-students-on-financial-literacy-and-future-success/
END:VEVENT
BEGIN:VEVENT
DTSTART;VALUE=DATE:20260416
DTEND;VALUE=DATE:20260417
DTSTAMP:20260420T233820
CREATED:20260417T065623Z
LAST-MODIFIED:20260420T071159Z
UID:84702-1776297600-1776383999@westmead-is.edu.ph
SUMMARY:Success and Gratitude: A Look Back at the 16th Annual Tourism and Hospitality Forum
DESCRIPTION:The Westmead International School community recently gathered to celebrate a landmark achievement: the 16th Annual Tourism and Hospitality Forum. This year’s event was not only a showcase of professional insight but a testament to the power of collaboration and hard work. \nFollowing the success of our tribute video\, we want to extend our heartfelt thanks to the mentors\, speakers\, and student leaders who made this milestone possible. \n\nA Tribute to Mentorship and Leadership\nThe forum’s foundation was built on the guidance of dedicated educators. We express our deepest gratitude to Dr. Marites Manlongat. Your wealth of knowledge and professional experience has been an inspiration to the student body; we have truly enjoyed the privilege of learning from you. \nSpecial appreciation goes to Ms. Armie and Ms. Sherly. The success of this forum is due in large part to your unwavering patience and steady guidance throughout every stage of preparation. We also thank our faculty members for their presence and continued support of our department’s initiatives. \nInsights from Industry Experts\nWe were honored to host three distinguished guest speakers who brought the “real world” into our halls. To Mr. Dennis\, Mr. Amore\, and Mr. Rinell: thank you for sharing your wisdom. The experiences you shared will undoubtedly serve as a roadmap for our students as they prepare to enter their future careers. \n\nThe Power of the Committee\nTo our 4th-year Tourism Management Committee: this success is yours. The 16th Annual Forum is a direct reflection of your hard work and the many sacrifices you made behind the scenes. \nBy pulling together\, you have achieved your second successful consecutive event. This achievement proves that when we work as one\, there is no limit to what we can accomplish. We look forward to seeing that same spirit in all our future endeavors. \n\n\nSpecial Thanks to Our Partners\nAn event of this scale requires a village. We would like to formally recognize: \n\nMr. Paul Joshua Canoy: For your invaluable help and effort throughout the event.\nMs. Leshley M. De Castro & Team: For your creative vision in designing and organizing a truly beautiful event. Thank you for your immense patience.\nMr. Espeleta & Mr. Milver: For your hard work in managing the essentials—from printing and souvenirs to the beautiful garlands.\n\nCongratulations to everyone involved! May we continue to reach new heights in our upcoming events. \n\n16th Annual Tourism and Hospitality Forum Official Tribute Video \n\nWestmead International School Alangilan\, Batangas City
URL:https://westmead-is.edu.ph/event/success-and-gratitude-a-look-back-at-the-16th-annual-tourism-and-hospitality-forum/
END:VEVENT
BEGIN:VEVENT
DTSTART;TZID=Asia/Manila:20260430T080000
DTEND;TZID=Asia/Manila:20260430T170000
DTSTAMP:20260420T233820
CREATED:20260420T033323Z
LAST-MODIFIED:20260420T033417Z
UID:84696-1777536000-1777568400@westmead-is.edu.ph
SUMMARY:ANNOUNCEMENT: One-Day Walk-In FREE Entrance Exam – April 30\, 2026
DESCRIPTION:Are you ready to jumpstart your career and build a successful future? Westmead International School in Alangilan\, Batangas City\, is officially opening its doors for Academic Year 2026-2027! Whether you are aiming for a licensed profession through our board programs or looking to build specialized skills in our non-board courses\, your journey begins here. \n\n🎓 Board Programs: One-Day Walk-In FREE Entrance Exam\nTake the first step toward becoming a licensed professional. We are hosting a special One-Day Walk-In FREE Entrance Examination for all board-track applicants. \n\nDate: April 30\, 2026\nTime: 9:00 AM – 4:00 PM\nVenue: Westmead Alangilan Campus\nNo Appointment Needed: Simply visit the campus and take the exam on the same day!\n\nAvailable Board Programs: \n\nBachelor of Early Childhood/Secondary Education\nBS Accountancy\nBS Criminology & BS Customs Administration\nEngineering (Civil\, Electrical\, Electronics\, Mechanical)\nBS Psychology & BS Real Estate Management\n\n\nCan’t make it on April 30? Don’t worry! Entrance examinations will continue through the end of May. \n\n\n🚀 Non-Board Programs: No Entrance Exam Required!\nLooking to dive straight into your chosen field? For our non-board programs\, we have streamlined the process—no entrance examination is required. You can secure your slot today and start building your future immediately. \nAvailable Non-Board Programs: \n\nBusiness & Tech: BS Entrepreneurship\, Business Administration\, Computer Science\, Information Technology\, Computer Engineering\, Industrial Engineering.\nHospitality: BS Hospitality Management\, Tourism Management.\nArts & Sciences: AB Economics\, Communication\, English Language Studies\, Political Science\, Public Administration\, Mathematics\, Sociology.\n\n\n📍 Visit Us & Enroll Today!\nEnrollment is ONGOING. Visit our campus to learn more about our programs and secure your future. \n\nAddress: Comet St. GCH Subd. Alangilan\, Batangas City 4200\nContact Nos: (043) 312-4152 | 0908-6555521\nEmail: iwestmead@gmail.com\nWebsite: westmead-is.edu.ph\nFacebook: westmead.official\n\nDon’t wait—start building your future with Westmead today!
URL:https://westmead-is.edu.ph/event/announcement-one-day-walk-in-free-entrance-exam-april-30-2026/
END:VEVENT
END:VCALENDAR